BEGIN:VCALENDAR
VERSION:2.0
PRODID:-//ChamberMaster//Event Calendar 2.0//EN
METHOD:PUBLISH
X-PUBLISHED-TTL:P3D
REFRESH-INTERVAL:P3D
CALSCALE:GREGORIAN
BEGIN:VEVENT
DTSTART:20140906T160000Z
DTEND:20140906T230000Z
X-MICROSOFT-CDO-ALLDAYEVENT:FALSE
SUMMARY:13th Annual Pond & Garden Tour
DESCRIPTION:This Walla Walla Community Hospice fund raising event is a self-guided tour of ten private gardens in the Walla Walla area.  It is a delightful tour featuring unique and creative gardens whic incorporate ponds\, creeks\, and other water features into the design.  Tickets include a tour map and provide admission to all ten gardens.
X-ALT-DESC;FMTTYPE=text/html:This Walla Walla Community Hospice fund raising event is a self-guided tour of ten private gardens in the Walla Walla area.&nbsp\; It is a delightful tour featuring unique and creative gardens whic incorporate ponds\, creeks\, and other water features into the design.&nbsp\; Tickets include a tour map and provide admission to all ten gardens.
LOCATION:Private gardens in the Walla Walla area
UID:e.65.688
SEQUENCE:3
DTSTAMP:20260421T154622Z
URL:https://business.wwvchamber.com/events/details/13th-annual-pond-garden-tour-09-06-2014-688
END:VEVENT

END:VCALENDAR
