BEGIN:VCALENDAR
VERSION:2.0
PRODID:-//ChamberMaster//Event Calendar 2.0//EN
METHOD:PUBLISH
X-PUBLISHED-TTL:P3D
REFRESH-INTERVAL:P3D
CALSCALE:GREGORIAN
BEGIN:VEVENT
DTSTART;VALUE=DATE:20140301
DTEND;VALUE=DATE:20140401
TRANSP:TRANSPARENT
X-MICROSOFT-CDO-ALLDAYEVENT:TRUE
SUMMARY:1st Annual Bloody Mary Drive
DESCRIPTION:In honor of National American Red Cross month\, throughout the month of March a portion of the proceeds of Bloody Mary sales at these generous locations will support local Red Cross services and programs:  Stone Hut\, Red Monkey\, Public House 124\, and Green Spoon.
X-ALT-DESC;FMTTYPE=text/html:In honor of National American Red Cross month\, throughout the month of March a portion of the proceeds of Bloody Mary sales at these generous&nbsp\;locations will support local Red Cross services and programs:&nbsp\; Stone Hut\, Red Monkey\, Public House 124\, and Green Spoon.
LOCATION:Stone Hut\, Red Monkey\, Public House 124\, and Green Spoon.
UID:e.65.1632
SEQUENCE:3
DTSTAMP:20260422T004801Z
URL:https://business.wwvchamber.com/events/details/1st-annual-bloody-mary-drive-03-01-2014-1632
END:VEVENT

END:VCALENDAR
