BEGIN:VCALENDAR
VERSION:2.0
PRODID:-//ChamberMaster//Event Calendar 2.0//EN
METHOD:PUBLISH
X-PUBLISHED-TTL:P3D
REFRESH-INTERVAL:P3D
CALSCALE:GREGORIAN
BEGIN:VEVENT
DTSTART:20141109T013000Z
DTEND:20141109T063000Z
X-MICROSOFT-CDO-ALLDAYEVENT:FALSE
SUMMARY:2014 Gala
DESCRIPTION:Join us for an exciting night at the Marcus Whitman Hotel and Conference Center for our annual Hospital Gala. Entertainment includes Richard Garey\, and the piano stylings of Dan Troxell. Registration is available online\, for additional information contact the Walla Walla General Hospital Foundation at 527-8300 or WWGHgiving@ah.org
X-ALT-DESC;FMTTYPE=text/html:<span style="color: rgb(20\, 24\, 35)\; font-family: Helvetica\, Arial\, 'lucida grande'\, tahoma\, verdana\, arial\, sans-serif\; font-size: 14px\; line-height: 17.920000076293945px\;">Join us for an exciting night at the Marcus Whitman Hotel and Conference Center for our annual Hospital Gala. Entertainment includes Richard Garey\, and the piano stylings of Dan Troxell. Registration is available online\, for additional information contact the Walla Walla General Hospital Foundation at 527-8300 or WWGHgiving@ah.org</span>
LOCATION:Marcus Whitman Hotel and Conference Center
UID:e.65.1832
SEQUENCE:3
DTSTAMP:20260421T103053Z
URL:https://business.wwvchamber.com/events/details/2014-gala-11-08-2014-1832
END:VEVENT

END:VCALENDAR
