BEGIN:VCALENDAR
VERSION:2.0
PRODID:-//ChamberMaster//Event Calendar 2.0//EN
METHOD:PUBLISH
X-PUBLISHED-TTL:P3D
REFRESH-INTERVAL:P3D
CALSCALE:GREGORIAN
BEGIN:VEVENT
DTSTART;VALUE=DATE:20140313
DTEND;VALUE=DATE:20140316
TRANSP:TRANSPARENT
X-MICROSOFT-CDO-ALLDAYEVENT:TRUE
SUMMARY:2014 Walla Walla Guitar Festival
DESCRIPTION:It's the Coyote Kings Invitational WALLA WALLA GUITAR FESTIVAL! 16 top Blues & Roots bands from all over the Northwest and beyond.\n\n\n\n3 days\, 16 bands\, 4 venues\, 1 ticket\, in Beautiful Downtown Walla Walla.\n\n\n\nMotel/fest packages available. Tickets & Motel/Fest packages on sale now at:\n\nhttp://wallawallaguitarfestival.com/\n\n\n\nSponsored by: South Sound Blues Association\, Washington Blues Society\, Cascade Blues\, Inland Empire Blues Society\, Tourism Walla Walla\, The Marcus Whitman\, CH2Mhill\, Blue Mountain Crossing
X-ALT-DESC;FMTTYPE=text/html:It&#39\;s the Coyote Kings Invitational WALLA WALLA GUITAR FESTIVAL! 16 top Blues &amp\; Roots bands from all over the Northwest and beyond.<br />\n<br />\n3 days\, 16 bands\, 4 venues\, 1 ticket\, in Beautiful Downtown Walla Walla.<br />\n<br />\nMotel/fest packages available. Tickets &amp\; Motel/Fest packages on sale now at:<br />\nhttp://wallawallaguitarfestival.com/<br />\n<br />\nSponsored by: South Sound Blues Association\, Washington Blues Society\, Cascade Blues\, Inland Empire Blues Society\, Tourism Walla Walla\, The Marcus Whitman\, CH2Mhill\, Blue Mountain Crossing
LOCATION:3 locations in Downtown Walla Walla
UID:e.65.1619
SEQUENCE:3
DTSTAMP:20260422T004801Z
URL:https://business.wwvchamber.com/events/details/2014-walla-walla-guitar-festival-03-13-2014-1619
END:VEVENT

END:VCALENDAR
