BEGIN:VCALENDAR
VERSION:2.0
PRODID:-//ChamberMaster//Event Calendar 2.0//EN
METHOD:PUBLISH
X-PUBLISHED-TTL:P3D
REFRESH-INTERVAL:P3D
CALSCALE:GREGORIAN
BEGIN:VEVENT
DTSTART:20141025T170000Z
DTEND:20141026T010000Z
X-MICROSOFT-CDO-ALLDAYEVENT:FALSE
SUMMARY:2nd Annual Dia de los Muertos Festival
DESCRIPTION:Gesa Credit Union and Shakespeare Walla Walla present the Second Annual Dia de los Muertos Festival on October 24 and 25 at the Gesa Power House Theatre. This two-day community festival celebrates the Mexican Day of the Dead festival and will include free activities\, live music and dance\, art demonstrations\, food vendors\, and more.
X-ALT-DESC;FMTTYPE=text/html:<p style="margin: 0in 0in 11.25pt\; line-height: 17.85pt\; background-image: initial\; background-attachment: initial\; background-size: initial\; background-origin: initial\; background-clip: initial\; background-position: initial\; background-repeat: initial\;">\n	<span style="font-size:10.5pt\;\nfont-family:&quot\;Helvetica&quot\;\,&quot\;sans-serif&quot\;\;color:black">Gesa Credit Union and Shakespeare Walla Walla present the <a href="http://www.shakespearewallawalla.org/content/index.php/20-featured/76-second-annual-dia-de-los-muertos-festival">Second Annual Dia de los Muertos Festiva</a>l on October 24 and 25 at the Gesa Power House Theatre. This two-day community festival celebrates the Mexican <em>Day of the Dead</em> festival and will include free activities\, live music and dance\, art demonstrations\, food vendors\, and more.<o:p></o:p></span></p>\n
LOCATION:Gesa Power House Theatre
UID:e.65.1911
SEQUENCE:3
DTSTAMP:20260421T121855Z
URL:https://business.wwvchamber.com/events/details/2nd-annual-dia-de-los-muertos-festival-10-25-2014-1911
END:VEVENT

END:VCALENDAR
