BEGIN:VCALENDAR
VERSION:2.0
PRODID:-//ChamberMaster//Event Calendar 2.0//EN
METHOD:PUBLISH
X-PUBLISHED-TTL:P3D
REFRESH-INTERVAL:P3D
CALSCALE:GREGORIAN
BEGIN:VEVENT
DTSTART:20141025T013000Z
DTEND:20141025T043000Z
X-MICROSOFT-CDO-ALLDAYEVENT:FALSE
SUMMARY:2nd Annual Dia de los Muertos Festival - Opening Night Concert
DESCRIPTION:Gesa Credit Union and Shakespeare Walla Walla present a community festival celebrating the Mexican ?Day of the Dead? holiday. This two-day event begins with a free concert featuring the talented Mariachi Huenachi from Wenatchee High School\, plus other regional musicians and dancers.
X-ALT-DESC;FMTTYPE=text/html:Gesa Credit Union and Shakespeare Walla Walla present a community festival celebrating the Mexican ?Day of the Dead? holiday. This two-day event begins with a free concert featuring the talented Mariachi Huenachi from Wenatchee High School\, plus other regional musicians and dancers.&nbsp\;
LOCATION:Gesa Power House Theatre
UID:e.65.1948
SEQUENCE:3
DTSTAMP:20260421T121900Z
URL:https://business.wwvchamber.com/events/details/2nd-annual-dia-de-los-muertos-festival-opening-night-concert-10-24-2014-1948
END:VEVENT

END:VCALENDAR
