BEGIN:VCALENDAR
VERSION:2.0
PRODID:-//ChamberMaster//Event Calendar 2.0//EN
METHOD:PUBLISH
X-PUBLISHED-TTL:P3D
REFRESH-INTERVAL:P3D
CALSCALE:GREGORIAN
BEGIN:VEVENT
DTSTART;VALUE=DATE:20141004
DTEND;VALUE=DATE:20141005
TRANSP:TRANSPARENT
X-MICROSOFT-CDO-ALLDAYEVENT:TRUE
SUMMARY:3rd Annual Statewide Shelter Open House Event
DESCRIPTION:Take a field trip to your community shelter on October 4th for the 3rd Annual Statewide Shelter Open House event hosted by Pawsitive Alliance. 24 Shelters across Washington State will be opening up their doors to host an Open House Pawty and bring community members in as honored guests. Come see the work they are doing for animals in need--and enjoy a Pawty too! Visit the Pawsitive Alliance website (www.pawsitivealliance.org) for a list of participating shelters and see what fun activities they have planned\, as well as the sponsors who are helping put on this unique and important event!
X-ALT-DESC;FMTTYPE=text/html:Take a field trip to your community shelter on October 4th for the 3rd Annual Statewide Shelter Open House event hosted by Pawsitive Alliance. 24 Shelters across Washington State will be opening up their doors to host an Open House Pawty and bring community members in as honored guests. Come see the work they are doing for animals in need--and enjoy a Pawty too! Visit the Pawsitive Alliance website (www.pawsitivealliance.org) for a list of participating shelters and see what fun activities they have planned\, as well as the sponsors who are helping put on this unique and important event!
LOCATION:www.pawsitivealliance.org
UID:e.65.1942
SEQUENCE:3
DTSTAMP:20260421T140450Z
URL:https://business.wwvchamber.com/events/details/3rd-annual-statewide-shelter-open-house-event-10-04-2014-1942
END:VEVENT

END:VCALENDAR
