BEGIN:VCALENDAR
VERSION:2.0
PRODID:-//ChamberMaster//Event Calendar 2.0//EN
METHOD:PUBLISH
X-PUBLISHED-TTL:P3D
REFRESH-INTERVAL:P3D
CALSCALE:GREGORIAN
BEGIN:VEVENT
DTSTART:20140601T030000Z
DTEND:20140601T070000Z
X-MICROSOFT-CDO-ALLDAYEVENT:FALSE
SUMMARY:80's Invasion
DESCRIPTION:The band was formed by good friends who have spent years touring and recording in a variety of musical settings. We love to play music together and have always had a fondness for the music of the 80s. After perusing our LPs for inspiration\, the band put together a list of favorite songs and took up the challenge to become the definitive 80s experience.
X-ALT-DESC;FMTTYPE=text/html:The band was formed by good friends who have spent years touring and recording in a variety of musical settings. We love to play music together and have always had a fondness for the music of the 80s. After perusing our LPs for inspiration\, the band put together a list of favorite songs and took up the challenge to become the definitive 80s experience.
LOCATION:Main Street Studios\, 207 West Main Street 99362 Walla Walla\, WA
UID:e.65.1757
SEQUENCE:3
DTSTAMP:20260421T194513Z
URL:https://business.wwvchamber.com/events/details/80-s-invasion-05-31-2014-1757
END:VEVENT

END:VCALENDAR
