BEGIN:VCALENDAR
VERSION:2.0
PRODID:-//ChamberMaster//Event Calendar 2.0//EN
METHOD:PUBLISH
X-PUBLISHED-TTL:P3D
REFRESH-INTERVAL:P3D
CALSCALE:GREGORIAN
BEGIN:VEVENT
DTSTART:20140809T180000Z
DTEND:20140809T200000Z
X-MICROSOFT-CDO-ALLDAYEVENT:FALSE
SUMMARY:"A Midsummer Night's Dream"
DESCRIPTION:ActOut Theatre Group presents a free outdoor performance of "A Midsummer Night's Dream" by William Shakespeare at the YMCA. This family-friendly production\, which features the intertwining stories of couples in love\, actors rehearsing\, and a feud between the fairy king and queen\, will be staged in the style of a 1960s beach party.
X-ALT-DESC;FMTTYPE=text/html:ActOut Theatre Group presents a free outdoor performance of &quot\;A Midsummer Night&#39\;s Dream&quot\; by William Shakespeare at the YMCA. This family-friendly production\, which features the intertwining stories of couples in love\, actors rehearsing\, and a feud between the fairy king and queen\, will be staged in the style of a 1960s beach party.&nbsp\;
LOCATION:YMCA\, 340 S. Park Street
UID:e.65.1878
SEQUENCE:3
DTSTAMP:20260421T172041Z
URL:https://business.wwvchamber.com/events/details/a-midsummer-night-s-dream-08-09-2014-1878
END:VEVENT

END:VCALENDAR
