BEGIN:VCALENDAR
VERSION:2.0
PRODID:-//ChamberMaster//Event Calendar 2.0//EN
METHOD:PUBLISH
X-PUBLISHED-TTL:P3D
REFRESH-INTERVAL:P3D
CALSCALE:GREGORIAN
BEGIN:VEVENT
DTSTART:20140810T210000Z
DTEND:20140810T230000Z
X-MICROSOFT-CDO-ALLDAYEVENT:FALSE
SUMMARY:"A Midsummer Night's Dream"
DESCRIPTION:Act Out Theater Group presents a free outdoor performance of "A Midsummer Night's Dream" by William Shakespeare at the YMCA. This family-friendly production\, which features the intertwining stories of couples in love\, actors rehearsing\, and a feud between the fairy king and queen\, will be staged in the style of a 1960s beach party.
X-ALT-DESC;FMTTYPE=text/html:Act Out Theater Group presents a free outdoor performance of &quot\;A Midsummer Night&#39\;s Dream&quot\; by William Shakespeare at the YMCA. This family-friendly production\, which features the intertwining stories of couples in love\, actors rehearsing\, and a feud between the fairy king and queen\, will be staged in the style of a 1960s beach party.&nbsp\;
LOCATION:YMCA\, 304 S. Park Street
UID:e.65.1880
SEQUENCE:3
DTSTAMP:20260421T160556Z
URL:https://business.wwvchamber.com/events/details/a-midsummer-night-s-dream-08-10-2014-1880
END:VEVENT

END:VCALENDAR
