BEGIN:VCALENDAR
VERSION:2.0
PRODID:-//ChamberMaster//Event Calendar 2.0//EN
METHOD:PUBLISH
X-PUBLISHED-TTL:P3D
REFRESH-INTERVAL:P3D
CALSCALE:GREGORIAN
BEGIN:VEVENT
DTSTART:20140308T160000Z
DTEND:20140308T180000Z
X-MICROSOFT-CDO-ALLDAYEVENT:FALSE
SUMMARY:All You Can Eat Pancake Breakfast
DESCRIPTION:All you can eat pancakes\, scrambled eggs & link sausage. for ONLY $5.00. This is a fundraising event for the Walla Walla Senior Center\, 720 Sprague St. sponsored by our good friends at Park Manor! All ages are welcomed. Please call 527-3775 with any questions.
X-ALT-DESC;FMTTYPE=text/html:All you can eat pancakes\, scrambled eggs &amp\; link sausage. for ONLY $5.00. This is a fundraising event for the Walla Walla Senior Center\, 720 Sprague St. sponsored by our good friends at Park Manor! All ages are welcomed. Please call 527-3775 with any questions.
LOCATION:
UID:e.65.900
SEQUENCE:3
DTSTAMP:20260422T004733Z
URL:https://business.wwvchamber.com/events/details/all-you-can-eat-pancake-breakfast-03-08-2014-900
END:VEVENT

END:VCALENDAR
