BEGIN:VCALENDAR
VERSION:2.0
PRODID:-//ChamberMaster//Event Calendar 2.0//EN
METHOD:PUBLISH
X-PUBLISHED-TTL:P3D
REFRESH-INTERVAL:P3D
CALSCALE:GREGORIAN
BEGIN:VEVENT
DTSTART:20140510T163000Z
DTEND:20140510T230000Z
X-MICROSOFT-CDO-ALLDAYEVENT:FALSE
SUMMARY:Altrusa Spelling Bee
DESCRIPTION:The annual Altrusa Spelling Bee for 3rd\, 4th and 5th graders will take place in a new venue.  Find rules\, registration forms & practice words on line at wwps.org!  Be sure to apply asap as the event is limited to the first 100 applicants.
X-ALT-DESC;FMTTYPE=text/html:The annual Altrusa Spelling Bee for 3rd\, 4th and 5th graders will take place in a new venue. &nbsp\;Find rules\, registration forms &amp\; practice words on line at wwps.org! &nbsp\;Be sure to apply asap as the event is limited to the first 100 applicants.
LOCATION:Hunter Conservatory @ Whitman College [corner of Boyer & Park]
UID:e.65.1647
SEQUENCE:3
DTSTAMP:20260421T224433Z
URL:https://business.wwvchamber.com/events/details/altrusa-spelling-bee-05-10-2014-1647
END:VEVENT

END:VCALENDAR
