BEGIN:VCALENDAR
VERSION:2.0
PRODID:-//ChamberMaster//Event Calendar 2.0//EN
METHOD:PUBLISH
X-PUBLISHED-TTL:P3D
REFRESH-INTERVAL:P3D
CALSCALE:GREGORIAN
BEGIN:VEVENT
DTSTART:20140531T010000Z
DTEND:20140531T190000Z
X-MICROSOFT-CDO-ALLDAYEVENT:FALSE
SUMMARY:American Cancer Society Relay For Life "Festival of Hope"
DESCRIPTION:Relay For Life brings together millions of people worldwide to raise money to help prevent cancer\, save lives\, and diminish suffering from the disease. While you're raising much needed funds\, you'll also be raising awareness of cancer prevention\, early detection\, treatment\, and patient support. Relay brings people together from all walks of life with the common goal of eliminating cancer. No matter who you are\, there's a place for you at Relay. Teams are forming now. To start or join a team\, visit www.relayforlife.org/wallawallawa.
X-ALT-DESC;FMTTYPE=text/html:Relay For Life brings together millions of people worldwide to raise money to help prevent cancer\, save lives\, and diminish suffering from the disease. While you&#39\;re raising much needed funds\, you&#39\;ll also be raising awareness of cancer prevention\, early detection\, treatment\, and patient support. Relay brings people together from all walks of life with the common goal of eliminating cancer. No matter who you are\, there&#39\;s a place for you at Relay. Teams are forming now. To start or join a team\, visit www.relayforlife.org/wallawallawa.
LOCATION:Martin Track at Borleske Stadium
UID:e.65.1648
SEQUENCE:3
DTSTAMP:20260421T211628Z
URL:https://business.wwvchamber.com/events/details/american-cancer-society-relay-for-life-festival-of-hope-05-30-2014-1648
END:VEVENT

END:VCALENDAR
