BEGIN:VCALENDAR
VERSION:2.0
PRODID:-//ChamberMaster//Event Calendar 2.0//EN
METHOD:PUBLISH
X-PUBLISHED-TTL:P3D
REFRESH-INTERVAL:P3D
CALSCALE:GREGORIAN
BEGIN:VEVENT
DTSTART:20140928T030000Z
DTEND:20140928T060000Z
X-MICROSOFT-CDO-ALLDAYEVENT:FALSE
SUMMARY:An Evening with Michael Kaeshammer at Main Street Studios
DESCRIPTION:KAESHAMMER (Alert Music/Universal)\, Michael Kaeshammer doesn't simply wow you with his chops\; he invites you in and talks to you. Yes\, he's a gifted singer and songwriter\, a highly trained technician and interpreter and an incendiary piano player. But also\, on stage and off\, he's a consummate host. That joy is clear from the first note of KAESHAMMER\, as is Kaeshammer's uncanny ability to take 'a bit of musical this' and 'a touch of musical that' and create a sound that is uniquely his own ? A singular brand of pop tinged jazz that owes as much to Billy Joel and Paul McCartney as to Professor Longhair and Albert Ammons on hook laden love songs like 'A Little Bit Of Love.
X-ALT-DESC;FMTTYPE=text/html:KAESHAMMER (Alert Music/Universal)\, Michael Kaeshammer doesn&#39\;t simply wow you with his chops\; he invites you in and talks to you. Yes\, he&#39\;s a gifted singer and songwriter\, a highly trained technician and interpreter and an incendiary piano player. But also\, on stage and off\, he&#39\;s a consummate host.&nbsp\;That joy is clear from the first note of KAESHAMMER\, as is Kaeshammer&#39\;s uncanny ability to take &#39\;a bit of musical this&#39\; and &#39\;a touch of musical that&#39\; and create a sound that is uniquely his own ? A singular brand of pop tinged jazz that owes as much to Billy Joel and Paul McCartney as to Professor Longhair and Albert Ammons on hook laden love songs like &#39\;A Little Bit Of Love.
LOCATION:Main Street Studios 207 West Main Street\, Walla Walla\, WA 99362
UID:e.65.1868
SEQUENCE:3
DTSTAMP:20260421T161033Z
URL:https://business.wwvchamber.com/events/details/an-evening-with-michael-kaeshammer-at-main-street-studios-09-27-2014-1868
END:VEVENT

END:VCALENDAR
