BEGIN:VCALENDAR
VERSION:2.0
PRODID:-//ChamberMaster//Event Calendar 2.0//EN
METHOD:PUBLISH
X-PUBLISHED-TTL:P3D
REFRESH-INTERVAL:P3D
CALSCALE:GREGORIAN
BEGIN:VEVENT
DTSTART:20140620T033000Z
DTEND:20140620T063000Z
X-MICROSOFT-CDO-ALLDAYEVENT:FALSE
SUMMARY:An Evening with Paper Bird and guest Anna Tivel
DESCRIPTION:Since the band's formation in 2007\, Paper Bird has been playing its joyful blend of indie folk\, blue-eyed soul\, and rock to delighted audiences nationwide. The current lineup includes Mark Anderson (drums)\, Sarah Anderson (vocals\, trumpet)\, Paul DeHaven (guitar)\, Esme Patterson (vocals)\, Genevieve Patterson (vocals)\, and Caleb Summeril (banjo\, guitar\, bass). Everyone writes for the group\, and there is no leader. Paper Bird's live performances showcase the group's diversity and good-time vibe.
X-ALT-DESC;FMTTYPE=text/html:Since the band&#39\;s formation in 2007\, Paper Bird has been playing its joyful blend of indie folk\, blue-eyed soul\, and rock to delighted audiences nationwide. The current lineup includes Mark Anderson (drums)\, Sarah Anderson (vocals\, trumpet)\, Paul DeHaven (guitar)\, Esme Patterson (vocals)\, Genevieve Patterson (vocals)\, and Caleb Summeril (banjo\, guitar\, bass). Everyone writes for the group\, and there is no leader. Paper Bird&#39\;s live performances showcase the group&#39\;s diversity and good-time vibe.
LOCATION:Main Street Studios 207\, West Main Street\, Walla Walla\, WA 99362
UID:e.65.1793
SEQUENCE:3
DTSTAMP:20260421T205858Z
URL:https://business.wwvchamber.com/events/details/an-evening-with-paper-bird-and-guest-anna-tivel-06-19-2014-1793
END:VEVENT

END:VCALENDAR
