BEGIN:VCALENDAR
VERSION:2.0
PRODID:-//ChamberMaster//Event Calendar 2.0//EN
METHOD:PUBLISH
X-PUBLISHED-TTL:P3D
REFRESH-INTERVAL:P3D
CALSCALE:GREGORIAN
BEGIN:VEVENT
DTSTART:20140302T190000Z
DTEND:20140303T013000Z
X-MICROSOFT-CDO-ALLDAYEVENT:FALSE
SUMMARY:ANVIL Sundays @ Forgeron Cellars
DESCRIPTION:March is "Washington Wine Month" & to celebrate\, we are kicking off our new weekly "ANVIL Sundays"!\n\n\n\nJoin us in our Downtown WALLA WALLA Winery & Tasting Room EVERY Sunday to sample the ANVIL 2009 Red Blend & discover what makes our luxury line of wines\, ANVIL\, so special!\n\n\n\nAwarded 93+ Points by Robert Parker's The Wine Advocate\, 19.5/20 Points by the Review of Washington Wines\, and lauded as "Excellent" by the Washington Wine Report\, our ANVIL line of luxury wines is dedicated to highlighting Washington State's most sought-after vineyards in their best vintages. Sometimes a varietal\, sometimes a blend\; always lush\, rich\, and complex.\n\n\n\nLimited production\, highly allocated & critically acclaimed\, our 2009 vintage of ANVIL is a solid\, classic Bordeaux blend of Cabernet Sauvignon\, Merlot and Petit Verdot grapes\, but exhibits a seldom-encountered perfection of style and balance. Although this concentrated blend is easy to drink now with its complex flavors\, purity of fruit\, and density of structure\, additional cellaring will allow it to gain complexity over the next decade.
X-ALT-DESC;FMTTYPE=text/html:March is &quot\;Washington Wine Month&quot\; &amp\; to celebrate\, we are kicking off our new weekly &quot\;ANVIL Sundays&quot\;!<br />\n<br />\nJoin us in our Downtown WALLA WALLA Winery &amp\; Tasting Room EVERY Sunday to sample the ANVIL 2009 Red Blend &amp\; discover what makes our luxury line of wines\, ANVIL\, so special!<br />\n<br />\nAwarded 93+ Points by Robert Parker&#39\;s The Wine Advocate\, 19.5/20 Points by the Review of Washington Wines\, and lauded as &quot\;Excellent&quot\; by the Washington Wine Report\, our ANVIL line of luxury wines is dedicated to highlighting Washington State&rsquo\;s most sought-after vineyards in their best vintages. Sometimes a varietal\, sometimes a blend\; always lush\, rich\, and complex.<br />\n<br />\nLimited production\, highly allocated &amp\; critically acclaimed\, our 2009 vintage of ANVIL is a solid\, classic Bordeaux blend of Cabernet Sauvignon\, Merlot and Petit Verdot grapes\, but exhibits a seldom-encountered perfection of style and balance. Although this concentrated blend is easy to drink now with its complex flavors\, purity of fruit\, and density of structure\, additional cellaring will allow it to gain complexity over the next decade.<br />\n
LOCATION:Forgeron Cellars - 33 W Birch St\, Walla Walla WA\, 99362
UID:e.65.959
SEQUENCE:3
DTSTAMP:20260422T004548Z
URL:https://business.wwvchamber.com/events/details/anvil-sundays-forgeron-cellars-03-02-2014-959
END:VEVENT

END:VCALENDAR
