BEGIN:VCALENDAR
VERSION:2.0
PRODID:-//ChamberMaster//Event Calendar 2.0//EN
METHOD:PUBLISH
X-PUBLISHED-TTL:P3D
REFRESH-INTERVAL:P3D
CALSCALE:GREGORIAN
BEGIN:VEVENT
DTSTART;VALUE=DATE:20140712
DTEND;VALUE=DATE:20140714
TRANSP:TRANSPARENT
X-MICROSOFT-CDO-ALLDAYEVENT:TRUE
SUMMARY:Athena Caledonian Games
DESCRIPTION:Athena Caledonian Games is a Scottish heritage festival featuring Scottish piping\, dancing\, sheepdog trials\, athletic competitions\, vendors\, food and friends.  Visit our Knight of Knight Time in Scotland to see his armor and try on his helmet.  Kids games include trebuchet-like skills and our pipe bands are stirring.
X-ALT-DESC;FMTTYPE=text/html:Athena Caledonian Games is a Scottish heritage festival featuring Scottish piping\, dancing\, sheepdog trials\, athletic competitions\, vendors\, food and friends. &nbsp\;Visit our Knight of Knight Time in Scotland to see his armor and try on his helmet. &nbsp\;Kids games include trebuchet-like skills and our pipe bands are stirring. &nbsp\;&nbsp\;
LOCATION:Athena City Park
UID:e.65.1797
SEQUENCE:3
DTSTAMP:20260421T180220Z
URL:https://business.wwvchamber.com/events/details/athena-caledonian-games-07-12-2014-1797
END:VEVENT

END:VCALENDAR
