BEGIN:VCALENDAR
VERSION:2.0
PRODID:-//ChamberMaster//Event Calendar 2.0//EN
METHOD:PUBLISH
X-PUBLISHED-TTL:P3D
REFRESH-INTERVAL:P3D
CALSCALE:GREGORIAN
BEGIN:VEVENT
DTSTART:20140509T000000Z
DTEND:20140509T020000Z
X-MICROSOFT-CDO-ALLDAYEVENT:FALSE
SUMMARY:Augusta Farnum's\, 'Equivocal Space'\, A Botanical Drawing Installation
DESCRIPTION:Walla Walla based artist Augusta Farnum opens 'Equivocal Space'\, an installation of new botanical drawings and atmosphere paintings with a reception for the artist on Thursday\, May 8\, from 5:00pm 7:00pm\, at Telander Gallery\, 34 S. Colville Street in downtown Walla Walla.
X-ALT-DESC;FMTTYPE=text/html:Walla Walla based artist Augusta Farnum opens &#39\;Equivocal Space&#39\;\, an installation of new botanical drawings and atmosphere paintings with a reception for the artist on Thursday\, May 8\, from 5:00pm 7:00pm\, at Telander Gallery\,&nbsp\;34 S. Colville Street in downtown Walla Walla.
LOCATION:34 S. Colville Street
UID:e.65.1734
SEQUENCE:3
DTSTAMP:20260421T211447Z
URL:https://business.wwvchamber.com/events/details/augusta-farnum-s-equivocal-space-a-botanical-drawing-installation-05-08-2014-1734
END:VEVENT

END:VCALENDAR
