BEGIN:VCALENDAR
VERSION:2.0
PRODID:-//ChamberMaster//Event Calendar 2.0//EN
METHOD:PUBLISH
X-PUBLISHED-TTL:P3D
REFRESH-INTERVAL:P3D
CALSCALE:GREGORIAN
BEGIN:VEVENT
DTSTART:20140424T010000Z
DTEND:20140424T023000Z
X-MICROSOFT-CDO-ALLDAYEVENT:FALSE
SUMMARY:"Autism 101" Free seminar presented by Kathleen Gilmore
DESCRIPTION:"Autism 101"\, is a free seminar that will be presented by Kathleen Gilmore\, who has taught autism for years\, has her Master's Degree in Education\, is a BCBA (Board Certified Behavior Analyst) and LMHCA (Licensed Mental Health Counselor Associate). \n\n\n\nSome of the topics that will be covered are: New DSM   5 diagnosis\, a little biology behind ASD\, methods for interacting with individuals affected by an ASD\, through the use of visuals\, verbal's and structure.\n\nWho should attend this seminar?  Caregivers\, extended family\, babysitters\, emergency personnel\, educators\, nursing students and all community members interested in learning more about autism.
X-ALT-DESC;FMTTYPE=text/html:<p class="MsoNoSpacing"><span style="font-size:14px\;"><span style="font-family:comic sans ms\;">&ldquo\;Autism 101&rdquo\;\, is a free seminar that will be presented by Kathleen Gilmore\, who has taught autism for years\, has her Master&rsquo\;s Degree in Education\, is a BCBA (Board Certified Behavior Analyst) and LMHCA (Licensed Mental Health Counselor Associate).&nbsp\;<br />\n<br />\nSome of the topics that will be covered are: New DSM &ndash\; 5 diagnosis\, a little biology behind ASD\, methods for interacting with individuals affected by an ASD\, through the use of visuals\, verbal&rsquo\;s and structure.</span></span></p>\n\n<p class="MsoNoSpacing"><span style="font-size:14px\;"><span style="font-family:comic sans ms\;">Who should attend this seminar?&nbsp\; Caregivers\, extended family\, babysitters\, emergency personnel\, educators\, nursing students and all community members interested in learning more about autism.&nbsp\;</span></span></p>\n\n<p class="MsoNoSpacing">&nbsp\;</p>\n
LOCATION:Jacobi's Italian Caf & Catering 416 N. Second Avenue Walla Walla\, WA 99362
UID:e.65.1663
SEQUENCE:3
DTSTAMP:20260422T002446Z
URL:https://business.wwvchamber.com/events/details/autism-101-free-seminar-presented-by-kathleen-gilmore-04-23-2014-1663
END:VEVENT

END:VCALENDAR
