BEGIN:VCALENDAR
VERSION:2.0
PRODID:-//ChamberMaster//Event Calendar 2.0//EN
METHOD:PUBLISH
X-PUBLISHED-TTL:P3D
REFRESH-INTERVAL:P3D
CALSCALE:GREGORIAN
BEGIN:VEVENT
DTSTART:20140720T023000Z
DTEND:20140720T050000Z
X-MICROSOFT-CDO-ALLDAYEVENT:FALSE
SUMMARY:Badger Mountain Dry Band - Concert
DESCRIPTION:Formed in 1991\, The Badger Mountain Dry Band is a progressive bluegrass band from the Tri-Cities which uses acoustic/bluegrass instruments to arrange traditional and popular music. Their "new grass" approach has put a bluegrass spin on rock music ranging from The Beatles\, and The Grateful Dead to U2. This concert is part of the continuing Direct Current series which features local musicians. All concerts are $10 General Admission\, and are age restricted (bring a valid 21+ ID). Beer and wine will be available during the concert.
X-ALT-DESC;FMTTYPE=text/html:Formed in 1991\, The Badger Mountain Dry Band is a progressive bluegrass band from the Tri-Cities which uses acoustic/bluegrass instruments to arrange traditional and popular music. Their &quot\;new grass&quot\; approach has put a bluegrass spin on rock music ranging from The Beatles\, and The Grateful Dead to U2. This concert is part of the continuing Direct Current series which features local musicians. All concerts are $10 General Admission\, and are age restricted (bring a valid 21+ ID). Beer and wine will be available during the concert.
LOCATION:Gesa Power House Theatre
UID:e.65.1808
SEQUENCE:3
DTSTAMP:20260421T180509Z
URL:https://business.wwvchamber.com/events/details/badger-mountain-dry-band-concert-07-19-2014-1808
END:VEVENT

END:VCALENDAR
