BEGIN:VCALENDAR
VERSION:2.0
PRODID:-//ChamberMaster//Event Calendar 2.0//EN
METHOD:PUBLISH
X-PUBLISHED-TTL:P3D
REFRESH-INTERVAL:P3D
CALSCALE:GREGORIAN
BEGIN:VEVENT
DTSTART:20141116T020000Z
DTEND:20141116T060000Z
X-MICROSOFT-CDO-ALLDAYEVENT:FALSE
SUMMARY:BANDIT playing at The Eagles
DESCRIPTION:Prime Rib Dip Dinner starts at 6pm until gone. Dancing to the band BANDIT 7-10pm. Dinner $9\; Band Cover Charge $5\; BOTH $12. OPEN TO TE PUBLIC!
X-ALT-DESC;FMTTYPE=text/html:<p><strong>Prime Rib Dip Dinner </strong>starts at 6pm until gone. Dancing to the band <strong>BANDIT </strong>7-10pm. Dinner $9\; Band Cover Charge $5\; <strong>BOTH $12.</strong>&nbsp\;OPEN TO TE PUBLIC!</p>\n
LOCATION:350 S. 2nd Ave\, Walla Walla
UID:e.65.2242
SEQUENCE:3
DTSTAMP:20260421T104032Z
URL:https://business.wwvchamber.com/events/details/bandit-playing-at-the-eagles-11-15-2014-2242
END:VEVENT

END:VCALENDAR
