BEGIN:VCALENDAR
VERSION:2.0
PRODID:-//ChamberMaster//Event Calendar 2.0//EN
METHOD:PUBLISH
X-PUBLISHED-TTL:P3D
REFRESH-INTERVAL:P3D
CALSCALE:GREGORIAN
BEGIN:VEVENT
DTSTART:20140413T030000Z
DTEND:20140413T050000Z
X-MICROSOFT-CDO-ALLDAYEVENT:FALSE
SUMMARY:"Becky's New Car" at the Little Theatre of Walla Walla
DESCRIPTION:"When a woman says she wants a new car\, what she really wants is a new life\," says Becky Foster. Jump in with her for a hilarious and touching trip as a chance encounter sets her off on a joy ride that will jeopardize and alter everything she holds dear.
X-ALT-DESC;FMTTYPE=text/html:&quot\;When a woman says she wants a new car\, what she really wants is a new life\,&quot\; says Becky Foster. Jump in with her for a hilarious and touching trip as a chance encounter sets her off on a joy ride that will jeopardize and alter everything she holds dear.
LOCATION:Little Theatre of Walla Walla 1130 Sumach Walla Walla\, WA 99362
UID:e.65.1580
SEQUENCE:3
DTSTAMP:20260421T231007Z
URL:https://business.wwvchamber.com/events/details/becky-s-new-car-at-the-little-theatre-of-walla-walla-04-12-2014-1580
END:VEVENT

END:VCALENDAR
