BEGIN:VCALENDAR
VERSION:2.0
PRODID:-//ChamberMaster//Event Calendar 2.0//EN
METHOD:PUBLISH
X-PUBLISHED-TTL:P3D
REFRESH-INTERVAL:P3D
CALSCALE:GREGORIAN
BEGIN:VEVENT
DTSTART:20140316T023000Z
DTEND:20140316T040000Z
X-MICROSOFT-CDO-ALLDAYEVENT:FALSE
SUMMARY:bIG fONT
DESCRIPTION:A local blues band comprised of Thacher Carter (guitar)\, Bob Johnston (upright bass)\, and Val "The Don" Valiante (washboard). Their acoustic musical style combines elements of blues\, country\, classic rock\, jazz\, swing\, and bluegrass. 21 and over only.
X-ALT-DESC;FMTTYPE=text/html:A local blues band comprised of Thacher Carter (guitar)\, Bob Johnston (upright bass)\, and Val &quot\;The Don&quot\; Valiante (washboard). Their acoustic musical style combines elements of blues\, country\, classic rock\, jazz\, swing\, and bluegrass. 21 and over only.
LOCATION:Gesa Power House Theatre 111 N. Sixth Avenue Walla Walla\, WA
UID:e.65.1624
SEQUENCE:3
DTSTAMP:20260422T004211Z
URL:https://business.wwvchamber.com/events/details/big-font-03-15-2014-1624
END:VEVENT

END:VCALENDAR
