BEGIN:VCALENDAR
VERSION:2.0
PRODID:-//ChamberMaster//Event Calendar 2.0//EN
METHOD:PUBLISH
X-PUBLISHED-TTL:P3D
REFRESH-INTERVAL:P3D
CALSCALE:GREGORIAN
BEGIN:VEVENT
DTSTART:20140824T030000Z
DTEND:20140824T060000Z
X-MICROSOFT-CDO-ALLDAYEVENT:FALSE
SUMMARY:Blake Noble with Open Country Joy
DESCRIPTION:Aussie multi-instrumentalist Blake Noble is the serious business. Quitting his job\, selling his belongings and moving into a tent on a hippy commune for two years to focus entirely on developing his unique percussive guitar skills. Blake has been hitting his stride in 2012 with his 12-string percussive guitar flair. He secured endorsement deals with Elixir Strings\, Bigfoot Stompbox and Didgeridoo Breath and independently released his first album titled 'Music for the end of the world'\, bravely shrugging off advice and keeping it completely instrumental. Open Country Joy is Ellensburg's homegrown hometown band\, specializing in booty-shaking country funk since the year 2000!
X-ALT-DESC;FMTTYPE=text/html:Aussie multi-instrumentalist Blake Noble is the serious business. Quitting his job\, selling his belongings and moving into a tent on a hippy commune for two years to focus entirely on developing his unique percussive guitar skills. Blake has been hitting his stride in 2012 with his 12-string percussive guitar flair. He secured endorsement deals with Elixir Strings\, Bigfoot Stompbox and Didgeridoo Breath and independently released his first album titled &#39\;Music for the end of the world&#39\;\, bravely shrugging off advice and keeping it completely instrumental. Open Country Joy is Ellensburg&#39\;s homegrown hometown band\, specializing in booty-shaking country funk since the year 2000!
LOCATION:Main Street Studios 207 West Main Street\, Walla Walla\, WA 99362
UID:e.65.1896
SEQUENCE:3
DTSTAMP:20260421T180330Z
URL:https://business.wwvchamber.com/events/details/blake-noble-with-open-country-joy-08-23-2014-1896
END:VEVENT

END:VCALENDAR
