BEGIN:VCALENDAR
VERSION:2.0
PRODID:-//ChamberMaster//Event Calendar 2.0//EN
METHOD:PUBLISH
X-PUBLISHED-TTL:P3D
REFRESH-INTERVAL:P3D
CALSCALE:GREGORIAN
BEGIN:VEVENT
DTSTART:20140510T170000Z
DTEND:20140510T210000Z
X-MICROSOFT-CDO-ALLDAYEVENT:FALSE
SUMMARY:Blue Mountain Community College Foundation 2nd Annual Cruisin' for Scholarships
DESCRIPTION:A care and motorcycle show with proceeds to benefit the BMCC Diesel Technology Program and student scholarships. Awards will be given to winners in each category. Categories include\, but are not limited to: Cars by Decade\, People's Choice\, President's Choice\, and Best Motorcycle.\n\n\n\nCar Registration: $20\, includes dash plaque & goodie bag\, while supplies last. Registration begins at 9am\, or register online at www.bluecc.edu/alumni prior to the event\; web registration fees will be collected event day at check-in.
X-ALT-DESC;FMTTYPE=text/html:A care and motorcycle show with proceeds to benefit the BMCC Diesel Technology Program and student scholarships. Awards will be given to winners in each category. Categories include\, but are not limited to: Cars by Decade\, People&#39\;s Choice\, President&#39\;s Choice\, and Best Motorcycle.<br />\n<br />\nCar Registration: $20\, includes dash plaque &amp\; goodie bag\, while supplies last. Registration begins at 9am\, or register online at www.bluecc.edu/alumni prior to the event\; web registration fees will be collected event day at check-in.
LOCATION:BMCC Central Lawn 2411 NW Carden Ave. Pendleton\, OR 97801
UID:e.65.1673
SEQUENCE:3
DTSTAMP:20260421T224946Z
URL:https://business.wwvchamber.com/events/details/blue-mountain-community-college-foundation-2nd-annual-cruisin-for-scholarships-05-10-2014-1673
END:VEVENT

END:VCALENDAR
