BEGIN:VCALENDAR
VERSION:2.0
PRODID:-//ChamberMaster//Event Calendar 2.0//EN
METHOD:PUBLISH
X-PUBLISHED-TTL:P3D
REFRESH-INTERVAL:P3D
CALSCALE:GREGORIAN
BEGIN:VEVENT
DTSTART:20140315T013000Z
DTEND:20140315T043000Z
X-MICROSOFT-CDO-ALLDAYEVENT:FALSE
SUMMARY:Bluegrass Jam Session
DESCRIPTION:Local musicians' Bluegrass Jam Session\, Friday\, March 14\, from 6:30 to 9:30 at Journeys Pub and Chow House\, 119 W. Alder Street\, Walla Walla. Free and family friendly. Every 2nd Friday of the month.
X-ALT-DESC;FMTTYPE=text/html:Local musicians&#39\; Bluegrass Jam Session\, Friday\, March 14\, from 6:30 to 9:30 at Journeys Pub and Chow House\, 119 W. Alder Street\, Walla Walla. Free and family friendly. Every 2nd Friday of the month.
LOCATION:Journeys Pub and Chow House\, 119 W. Alder Street\, Walla Walla
UID:e.65.1637
SEQUENCE:3
DTSTAMP:20260422T003204Z
URL:https://business.wwvchamber.com/events/details/bluegrass-jam-session-03-14-2014-1637
END:VEVENT

END:VCALENDAR
