BEGIN:VCALENDAR
VERSION:2.0
PRODID:-//ChamberMaster//Event Calendar 2.0//EN
METHOD:PUBLISH
X-PUBLISHED-TTL:P3D
REFRESH-INTERVAL:P3D
CALSCALE:GREGORIAN
BEGIN:VEVENT
DTSTART:20140718T030000Z
DTEND:20140718T060000Z
X-MICROSOFT-CDO-ALLDAYEVENT:FALSE
SUMMARY:Bonny "Prince" Billy at Main Street Studios
DESCRIPTION:The man who acts under the name Will Oldham and sings and composes under the name Bonnie "Prince" Billy has\, over the past quarter-century\, made an idiosyncratic journey through\, and an indelible mark on\, the worlds of indie rock and independent cinema. With his highly individualistic approach to music making and the music industry\, one that cherishes intimacy\, community\, mystery\, and spontaneity\; his brilliance has captivated fans and made Bonny one of our most influential and beloved song-smiths. Recent projects in 2012 include Now Heres My Plan (EP)\, Will Oldham on Bonnie "Prince" Billy (An Autobiography edited by Alan Licht\, published by Norton)\, as well as two singles\; Billy F. Gibbons/ Matt Sweeney & Bonny Billy "Oh Well" b/w "Storms"\, and Dawn McCarthy & Bonny Billy "Christmas Eve Can Kill" b/w "Walkin the Dog". In 2013\, Bonny released a new full length record of duets with Dawn McCarthy on Drag City.
X-ALT-DESC;FMTTYPE=text/html:The man who acts under the name Will Oldham and sings and composes under the name Bonnie &quot\;Prince&quot\; Billy has\, over the past quarter-century\, made an idiosyncratic journey through\, and an indelible mark on\, the worlds of indie rock and independent cinema. With his highly individualistic approach to music making and the music industry\, one that cherishes intimacy\, community\, mystery\, and spontaneity\; his brilliance has captivated fans and made Bonny one of our most influential and beloved song-smiths. Recent projects in 2012 include Now Heres My Plan (EP)\, Will Oldham on Bonnie &quot\;Prince&quot\; Billy (An Autobiography edited by Alan Licht\, published by Norton)\, as well as two singles\; Billy F. Gibbons/ Matt Sweeney &amp\; Bonny Billy &quot\;Oh Well&quot\; b/w &quot\;Storms&quot\;\, and Dawn McCarthy &amp\; Bonny Billy &quot\;Christmas Eve Can Kill&quot\; b/w &quot\;Walkin the Dog&quot\;. In 2013\, Bonny released a new full length record of duets with Dawn McCarthy on Drag City.
LOCATION:Main Street Studios 207 West Main Street\, Walla Walla\, WA 99362
UID:e.65.1850
SEQUENCE:3
DTSTAMP:20260421T180509Z
URL:https://business.wwvchamber.com/events/details/bonny-prince-billy-at-main-street-studios-07-17-2014-1850
END:VEVENT

END:VCALENDAR
