BEGIN:VCALENDAR
VERSION:2.0
PRODID:-//ChamberMaster//Event Calendar 2.0//EN
METHOD:PUBLISH
X-PUBLISHED-TTL:P3D
REFRESH-INTERVAL:P3D
CALSCALE:GREGORIAN
BEGIN:VEVENT
DTSTART:20140530T000000Z
DTEND:20140530T020000Z
X-MICROSOFT-CDO-ALLDAYEVENT:FALSE
SUMMARY:Book Launch - Legendary Locals of Walla Walla
DESCRIPTION:Join author Diane B. Reed in celebrating the publication of her new book\, Legendary Locals of Walla Walla. Hosted by the Fort Walla Walla Museum\, this event will include a presentation by Reed followed by a signing. Come meet the author and discover fascinating stories of unique individuals and groups\, past and present\, who have had a lasting impact on the community.
X-ALT-DESC;FMTTYPE=text/html:Join author Diane B. Reed in celebrating the publication of her new book\, Legendary Locals of Walla Walla. Hosted by the Fort Walla Walla Museum\, this event will include a presentation by Reed followed by a signing. Come meet the author and discover fascinating stories of unique individuals and groups\, past and present\, who have had a lasting impact on the community.
LOCATION:Fort Walla Walla Museum\, 755 Myra Road\, Walla Walla\, WA 99362
UID:e.65.1741
SEQUENCE:3
DTSTAMP:20260421T224813Z
URL:https://business.wwvchamber.com/events/details/book-launch-legendary-locals-of-walla-walla-05-29-2014-1741
END:VEVENT

END:VCALENDAR
