BEGIN:VCALENDAR
VERSION:2.0
PRODID:-//ChamberMaster//Event Calendar 2.0//EN
METHOD:PUBLISH
X-PUBLISHED-TTL:P3D
REFRESH-INTERVAL:P3D
CALSCALE:GREGORIAN
BEGIN:VEVENT
DTSTART:20140613T180000Z
DTEND:20140613T220000Z
X-MICROSOFT-CDO-ALLDAYEVENT:FALSE
SUMMARY:Book Signing - Legendary Locals of Walla Walla
DESCRIPTION:Diane B. Reed\, author of Legendary Locals of Walla Walla\, is celebrating the publication of her new book! Meet the author and discover the fascinating stories of unique individuals and groups\, past and present\, who have had a lasting impact on the community.
X-ALT-DESC;FMTTYPE=text/html:Diane B. Reed\, author of Legendary Locals of Walla Walla\, is celebrating the publication of her new book! Meet the author and discover the fascinating stories of unique individuals and groups\, past and present\, who have had a lasting impact on the community.
LOCATION:Book & Game\, 38 E. Main St.\, Walla Walla\, WA 99362
UID:e.65.1743
SEQUENCE:3
DTSTAMP:20260421T195315Z
URL:https://business.wwvchamber.com/events/details/book-signing-legendary-locals-of-walla-walla-06-13-2014-1743
END:VEVENT

END:VCALENDAR
