BEGIN:VCALENDAR
VERSION:2.0
PRODID:-//ChamberMaster//Event Calendar 2.0//EN
METHOD:PUBLISH
X-PUBLISHED-TTL:P3D
REFRESH-INTERVAL:P3D
CALSCALE:GREGORIAN
BEGIN:VEVENT
DTSTART:20141115T180000Z
DTEND:20141115T200000Z
X-MICROSOFT-CDO-ALLDAYEVENT:FALSE
SUMMARY:Breakfast at the Eagles
DESCRIPTION:Hobo Eggs\, Country Hash Browns\, Sausage Links\, Biscuits & Gravy\, Fresh Fruit\, Coffee\, Milk\, Juice...MIX & MATCH SOME OR ALL ONLY $10. Proceeds will help put Holiday Dinners on the table at the Rescue Mission.
X-ALT-DESC;FMTTYPE=text/html:Hobo Eggs\, Country Hash Browns\, Sausage Links\, Biscuits &amp\; Gravy\, Fresh Fruit\, Coffee\, Milk\, Juice...<strong>MIX &amp\; MATCH SOME OR ALL ONLY $10. </strong>Proceeds will help put Holiday Dinners on the table at the Rescue Mission.<br>\n
LOCATION:Walla Walla Eagles\, 350 S. 2nd
UID:e.65.2243
SEQUENCE:3
DTSTAMP:20260421T103508Z
URL:https://business.wwvchamber.com/events/details/breakfast-at-the-eagles-11-15-2014-2243
END:VEVENT

END:VCALENDAR
