BEGIN:VCALENDAR
VERSION:2.0
PRODID:-//ChamberMaster//Event Calendar 2.0//EN
METHOD:PUBLISH
X-PUBLISHED-TTL:P3D
REFRESH-INTERVAL:P3D
CALSCALE:GREGORIAN
BEGIN:VEVENT
DTSTART:20140311T010000Z
DTEND:20140311T030000Z
X-MICROSOFT-CDO-ALLDAYEVENT:FALSE
SUMMARY:Breast Feeding Support Circle
DESCRIPTION:Come and enjoy the company of other mom's who are breastfeeding their baby's or toddlers. If you are pregnant and plan to breastfeed and want to learn more\, or you just had a baby and are feeling a bit overwhelmed or isolated and need some help\, or you are an experienced breast feeder and would like to offer support\, or you too are needing to collaborate with others. It's all good! \n\n\n\nAlong with all topics related to breastfeeding\, other topics that we can schedule to talk about are: cloth diapers\, car seat safety\, starting solids\, postpartum depression\, nutrition and weight loss\, whatever you want or need to talk about. Meetings are monthly.\n\n\n\nThere will be light refreshments but no babysitting as my clinic is pretty small. If this group grows quickly\, we can look for a bigger venue and hopefully provide babysitting in the future. Please bring your nursing baby for sure!\n\n\n\nBe sure to call me at 509-876-4720 or email me on fb or at kathryn@bluemtmidwifery.com if you have questions or suggestions or if you just want to let me know you are coming! Thanks!
X-ALT-DESC;FMTTYPE=text/html:<kbd><code><tt><span style="font-family:tahoma\;">Come and enjoy the company of other mom&#39\;s who are breastfeeding their baby&#39\;s or toddlers. If you are pregnant and plan to breastfeed and want to learn more\, or you just had a baby and are feeling a bit overwhelmed or isolated and need some help\, or you are an experienced breast feeder and would like to offer support\, or you too are needing to collaborate with others. It&#39\;s all good!&nbsp\;<br />\n<br />\nAlong with all topics related to breastfeeding\, other topics that we can schedule to talk about are: cloth diapers\, car seat safety\, starting solids\, postpartum depression\, nutrition and weight loss\, whatever you want or need to talk about. Meetings are monthly.<br />\n<br />\nThere will be light refreshments but no babysitting as my clinic is pretty small. If this group grows quickly\, we can look for a bigger venue and hopefully provide babysitting in the future. Please bring your nursing baby for sure!<br />\n<br />\nBe sure to call me at 509-876-4720 or email me on fb or at&nbsp\;kathryn@bluemtmidwifery.com&nbsp\;if you have questions or suggestions or if you just want to let me know you are coming! Thanks!&nbsp\;</span></tt></code></kbd>
LOCATION:Blue Mountain Midwifery & Women's Health Care
UID:e.65.1634
SEQUENCE:3
DTSTAMP:20260422T004206Z
URL:https://business.wwvchamber.com/events/details/breast-feeding-support-circle-03-10-2014-1634
END:VEVENT

END:VCALENDAR
