BEGIN:VCALENDAR
VERSION:2.0
PRODID:-//ChamberMaster//Event Calendar 2.0//EN
METHOD:PUBLISH
X-PUBLISHED-TTL:P3D
REFRESH-INTERVAL:P3D
CALSCALE:GREGORIAN
BEGIN:VEVENT
DTSTART:20140405T000000Z
DTEND:20140405T010000Z
X-MICROSOFT-CDO-ALLDAYEVENT:FALSE
SUMMARY:Brushes 'n Brix Ribbon Cutting
DESCRIPTION:A new outlet for artistic locals has arrived in Walla Walla! Join us for a Ribbon Cutting Ceremony at Brushes 'n Brix\, Walla Walla's original "paint & sip" destination\, Friday\, April 4 beginning at 5:00pm.\n\n\n\nEnjoy the relaxed\, social group setting and meet Owner/Instructor Barb Newby.\n\n\n\nThe studio pairs alcoholic beverages with painting classes and is open to artists of all skill levels\, who are guided step-by-step through rotating "featured" paintings. Whether you are an aspiring artist just looking to explore your creative side\, or looking for some fun\, alone or with friends\, at the end of the session you will be amazed at the artwork you have created.\n\n\n\nBrushes 'n Brix is located at 350 'D' Street in Walla Walla. For more information about the Ribbon Cutting or Brushes 'n Brix\, please call (509) 540-4346.
X-ALT-DESC;FMTTYPE=text/html:A new outlet for artistic locals has arrived in Walla Walla! Join us for a Ribbon Cutting Ceremony at Brushes &#39\;n Brix\, Walla Walla&rsquo\;s original &ldquo\;paint &amp\; sip&rdquo\; destination\, Friday\, April 4 beginning at 5:00pm.<br />\n<br />\nEnjoy the relaxed\, social group setting and meet Owner/Instructor Barb Newby.<br />\n<br />\nThe studio pairs alcoholic beverages with painting classes and is open to artists of all skill levels\, who are guided step-by-step through rotating &ldquo\;featured&rdquo\; paintings. Whether you are an aspiring artist just looking to explore your creative side\, or looking for some fun\, alone or with friends\, at the end of the session you will be amazed at the artwork you have created.<br />\n<br />\nBrushes &#39\;n Brix is located at 350 &lsquo\;D&rsquo\; Street in Walla Walla. For more information about the Ribbon Cutting or Brushes &#39\;n Brix\, please call (509) 540-4346.
LOCATION:Brushes n' Brix Paint 'n Sip 350 D Street Walla Walla
UID:e.65.1656
SEQUENCE:3
DTSTAMP:20260422T004558Z
URL:https://business.wwvchamber.com/events/details/brushes-n-brix-ribbon-cutting-04-04-2014-1656
END:VEVENT

END:VCALENDAR
