BEGIN:VCALENDAR
VERSION:2.0
PRODID:-//ChamberMaster//Event Calendar 2.0//EN
METHOD:PUBLISH
X-PUBLISHED-TTL:P3D
REFRESH-INTERVAL:P3D
CALSCALE:GREGORIAN
BEGIN:VEVENT
DTSTART:20240517T003000Z
DTEND:20240517T020000Z
X-MICROSOFT-CDO-ALLDAYEVENT:FALSE
SUMMARY:Business After Hours | Canvasback Winery
DESCRIPTION:Creating wines that are as complex as they are captivating\, Canvasback is following the model established decades ago by Duckhorn Vineyards\, and combines grapes from top growers with fruit from Canvasback's own estate vineyard.\n\n\n\nCome connect with other business professionals in a fun casual environment! Each event is hosted by a different member business.  Hosts provide food and beverages to enjoy while providing opportunities to learn about their business and meet their team.\nThese events are free to attend and Chamber membership is not required. So round up your co-workers\, friends and colleagues and enjoy an evening of conversation and connections. \n\nIf you plan to attend\, please RSVP to assist our hosts with a headcount for food and beverages.
X-ALT-DESC;FMTTYPE=text/html:<br />\n<br />\n<span style="font-size:16px\;">Creating wines that are as complex as they are captivating\, Canvasback is following the model established decades ago by Duckhorn Vineyards\, and combines grapes from top growers with fruit from Canvasback&rsquo\;s own estate vineyard.<br />\n<br />\n<span style="font-family:arial\;">Come connect with other business professionals in a fun casual environment! Each event is hosted by a different member business.&nbsp\; Hosts provide food and beverages to enjoy while providing opportunities to learn about their business and meet their team.</span></span>\n<p><span style="font-size: 14px\;">These events are free to attend and Chamber membership is not required. So round up your co-workers\, friends and colleagues and enjoy an evening of conversation and connections. </span></p>\n\n<p><span style="font-size: 14px\;">If you plan to attend\, please RSVP to assist our hosts with a headcount for food and beverages.</span></p>\n
LOCATION:1825 J B George Rd Walla Walla\, WA
UID:e.65.19940
SEQUENCE:3
DTSTAMP:20260425T160833Z
URL:https://business.wwvchamber.com/events/details/business-after-hours-canvasback-winery-19940
END:VEVENT

END:VCALENDAR
