BEGIN:VCALENDAR
VERSION:2.0
PRODID:-//ChamberMaster//Event Calendar 2.0//EN
METHOD:PUBLISH
X-PUBLISHED-TTL:P3D
REFRESH-INTERVAL:P3D
CALSCALE:GREGORIAN
BEGIN:VEVENT
DTSTART:20141020T020000Z
DTEND:20141020T040000Z
X-MICROSOFT-CDO-ALLDAYEVENT:FALSE
SUMMARY:Caliente Salsa Night at Main Street Studios
DESCRIPTION:Join us at Main Street Studios for a night jam-packed with salsa dancing & great fun. Early comers are offered lessons.
X-ALT-DESC;FMTTYPE=text/html:Join us at Main Street Studios for a night jam-packed with salsa dancing &amp\; great fun. Early comers are offered lessons.
LOCATION:Main Street Studios 207 West Main Street\, Walla Walla\, WA 99362
UID:e.65.1945
SEQUENCE:3
DTSTAMP:20260421T121157Z
URL:https://business.wwvchamber.com/events/details/caliente-salsa-night-at-main-street-studios-10-19-2014-1945
END:VEVENT

END:VCALENDAR
