BEGIN:VCALENDAR
VERSION:2.0
PRODID:-//ChamberMaster//Event Calendar 2.0//EN
METHOD:PUBLISH
X-PUBLISHED-TTL:P3D
REFRESH-INTERVAL:P3D
CALSCALE:GREGORIAN
BEGIN:VEVENT
DTSTART:20141102T010000Z
DTEND:20141102T040000Z
X-MICROSOFT-CDO-ALLDAYEVENT:FALSE
SUMMARY:CALIENTE SALSA NIGHTS w/ CAFE BLANCO and DJ ROGER ESPARZA at Main Street Studios
DESCRIPTION:Come on down to Main Street Studios and shake your hips like they don't lie! Salsa away to live band CAFE BLANCO and DJ ROGER ESPARAZA will be spinning the turn tables with SALSA\, BACHATA\, SAMBA\, RUMBA and much more!! ***Dance lessons from 7:00 - 8:00 PM***
X-ALT-DESC;FMTTYPE=text/html:Come on down to Main Street Studios and shake your hips like they don&#39\;t lie! Salsa away to live band CAFE BLANCO and DJ ROGER ESPARAZA will be spinning the turn tables with SALSA\, BACHATA\, SAMBA\, RUMBA and much more!! ***Dance lessons from 7:00 - 8:00 PM***
LOCATION:Main Street Studios 207 West Main Street\, Walla Walla\, WA 99362
UID:e.65.1994
SEQUENCE:3
DTSTAMP:20260421T121811Z
URL:https://business.wwvchamber.com/events/details/caliente-salsa-nights-w-cafe-blanco-and-dj-roger-esparza-at-main-street-studios-11-01-2014-1994
END:VEVENT

END:VCALENDAR
