BEGIN:VCALENDAR
VERSION:2.0
PRODID:-//ChamberMaster//Event Calendar 2.0//EN
METHOD:PUBLISH
X-PUBLISHED-TTL:P3D
REFRESH-INTERVAL:P3D
CALSCALE:GREGORIAN
BEGIN:VEVENT
DTSTART:20140309T033000Z
DTEND:20140309T060000Z
X-MICROSOFT-CDO-ALLDAYEVENT:FALSE
SUMMARY:Camp Fire Walla Walla BeneVint 2014
DESCRIPTION:Camp Fire Walla Walla will be holding a Mardi Cras event featuring wine tasting\, silent/live auction and traditional New Orleans food.  We have a signed Seattle Seahawk football\, bronzed Seahawk cap\, Gonzaga signed basketball\, wine and golf packages\, Triple Play Indoor Waterpark passes\, and much more!
X-ALT-DESC;FMTTYPE=text/html:Camp Fire Walla Walla will be holding a Mardi Cras event featuring wine tasting\, silent/live auction and traditional New Orleans food. &nbsp\;We have a signed Seattle Seahawk football\, bronzed Seahawk cap\, Gonzaga signed basketball\, wine and golf packages\, Triple Play Indoor Waterpark passes\, and much more!
LOCATION:Charles Smith Winery 35 South Spokane Street Walla Walla\, WA 99362
UID:e.65.831
SEQUENCE:3
DTSTAMP:20260422T022158Z
URL:https://business.wwvchamber.com/events/details/camp-fire-walla-walla-benevint-2014-03-08-2014-831
END:VEVENT

END:VCALENDAR
