BEGIN:VCALENDAR
VERSION:2.0
PRODID:-//ChamberMaster//Event Calendar 2.0//EN
METHOD:PUBLISH
X-PUBLISHED-TTL:P3D
REFRESH-INTERVAL:P3D
CALSCALE:GREGORIAN
BEGIN:VEVENT
DTSTART:20140309T023000Z
DTEND:20140309T043000Z
X-MICROSOFT-CDO-ALLDAYEVENT:FALSE
SUMMARY:Campbell Davis
DESCRIPTION:Campbell Davis\, local singer/songwriter\, performs live music Saturday\, March 8\, from 6:30 to 8:30 p.m. at Journeys Pub and Chow House\, 119 W. Alder St.\, Walla Walla. Free and family friendly.
X-ALT-DESC;FMTTYPE=text/html:Campbell Davis\, local singer/songwriter\, performs live music Saturday\, March 8\, from 6:30 to 8:30 p.m. at Journeys Pub and Chow House\, 119 W. Alder St.\, Walla Walla. Free and family friendly.
LOCATION:Journeys Pub and Chow House\, 119 W. Alder St.\, Walla Walla.
UID:e.65.1636
SEQUENCE:3
DTSTAMP:20260422T002215Z
URL:https://business.wwvchamber.com/events/details/campbell-davis-03-08-2014-1636
END:VEVENT

END:VCALENDAR
