BEGIN:VCALENDAR
VERSION:2.0
PRODID:-//ChamberMaster//Event Calendar 2.0//EN
METHOD:PUBLISH
X-PUBLISHED-TTL:P3D
REFRESH-INTERVAL:P3D
CALSCALE:GREGORIAN
BEGIN:VEVENT
DTSTART:20141030T010000Z
DTEND:20141030T020000Z
X-MICROSOFT-CDO-ALLDAYEVENT:FALSE
SUMMARY:Candlelight Vigil for Domestic Violence Awareness
DESCRIPTION:Domestic Violence Awareness Month will culminate in a Candlelight Vigil hosted by the YWCA of Walla Walla.\n\nAdvocates from the YWCA domestic violence shelter have created a display to commemorate one year of lives lost in Washington state and will share information about YWCA services for women and families in crisis.\n\nHelp remember the women and men lost to domestic violence last year. Community members are invited to attend.
X-ALT-DESC;FMTTYPE=text/html:Domestic Violence Awareness Month will culminate in a Candlelight Vigil hosted by the YWCA of Walla Walla.\n\nAdvocates from the YWCA domestic violence shelter have created a display to commemorate one year of lives lost in Washington state and will share information about YWCA services for women and families in crisis.\n\nHelp remember the women and men lost to domestic violence last year. Community members are invited to attend. 
LOCATION:Land Title Plaza downtown\, corner of First and Main
UID:e.65.1979
SEQUENCE:3
DTSTAMP:20260421T121447Z
URL:https://business.wwvchamber.com/events/details/candlelight-vigil-for-domestic-violence-awareness-10-29-2014-1979
END:VEVENT

END:VCALENDAR
