BEGIN:VCALENDAR
VERSION:2.0
PRODID:-//ChamberMaster//Event Calendar 2.0//EN
METHOD:PUBLISH
X-PUBLISHED-TTL:P3D
REFRESH-INTERVAL:P3D
CALSCALE:GREGORIAN
BEGIN:VEVENT
DTSTART:20140622T010000Z
DTEND:20140622T040000Z
X-MICROSOFT-CDO-ALLDAYEVENT:FALSE
SUMMARY:Celebrate Dinner with aMaurice Cellars\, Dunham Cellars & Walla Walla Vintners
DESCRIPTION:Wine and dine right next to the vines in the foothills of the Blue Mountains. Join  Maurice\, Dunham Cellars\, and Walla Walla Vintners at their exquisite Upper Mill Creek vineyards for an unforgettable Winemaker Dinner. After taking in the beautiful sunset over the vineyards\, you will feast by candlelight on an incredible multi-course dinner by local gem\, Graze. Winemakers seated right at your table will rouse you with their award-winning wines and countless harvest stories. They may even bring an extra special bottle (or two) to share with their new friends.
X-ALT-DESC;FMTTYPE=text/html:Wine and dine right next to the vines in the foothills of the Blue Mountains. Join &agrave\;Maurice\, Dunham Cellars\, and Walla Walla Vintners at their exquisite Upper Mill Creek vineyards for an unforgettable Winemaker Dinner. After taking in the beautiful sunset over the vineyards\, you will feast by candlelight on an incredible multi-course dinner by local gem\, Graze. Winemakers seated right at your table will rouse you with their award-winning wines and countless harvest stories. They may even bring an extra special bottle (or two) to share with their new friends.
LOCATION:Walla Walla Vintners\, 225 Vineyard Ln\, Walla Walla\, WA 99362.
UID:e.65.1733
SEQUENCE:3
DTSTAMP:20260421T194936Z
URL:https://business.wwvchamber.com/events/details/celebrate-dinner-with-amaurice-cellars-dunham-cellars-walla-walla-vintners-06-21-2014-1733
END:VEVENT

END:VCALENDAR
