BEGIN:VCALENDAR
VERSION:2.0
PRODID:-//ChamberMaster//Event Calendar 2.0//EN
METHOD:PUBLISH
X-PUBLISHED-TTL:P3D
REFRESH-INTERVAL:P3D
CALSCALE:GREGORIAN
BEGIN:VEVENT
DTSTART:20140712T180000Z
DTEND:20140713T003000Z
X-MICROSOFT-CDO-ALLDAYEVENT:FALSE
SUMMARY:Celebrate Forgeron's NEW 2013 Façon Blanc!
DESCRIPTION:Our beloved Southern Rh ne-inspired Ambiance has a new name: FA ON BLANC. Grab your friends and join us Saturday\, July 12 to celebrate our new 2013 FA ON BLANC! Experience our newest release paired with delicious fromage specially selected by Cheese Louise and the stunning artwork of local artist\, Allyson Yund! This gorgeous new wine just received a GOLD medal at the Seattle Wine Awards! Fa on [FAH-son] means "the way\, fashion or style of expression" in French and represents Forgeron?s unique style: inspired by Marie-Eve's French training and heritage\, and decades of experience showcasing Washington terroir.
X-ALT-DESC;FMTTYPE=text/html:Our beloved Southern Rh&ocirc\;ne-inspired Ambiance has a new name: FA&Ccedil\;ON BLANC. Grab your friends and join us Saturday\, July 12 to celebrate our new 2013 FA&Ccedil\;ON BLANC! Experience our newest release paired with delicious fromage specially selected by Cheese Louise and the stunning artwork of local artist\, Allyson Yund! This gorgeous new wine just received a GOLD medal at the Seattle Wine Awards! Fa&ccedil\;on [FAH-son] means &quot\;the way\, fashion or style of expression&quot\; in French and represents Forgeron?s unique style: inspired by Marie-Eve&#39\;s French training and heritage\, and decades of experience showcasing Washington terroir.
LOCATION:Forgeron Cellars Winery & Tasting Room - 33 W Birch St\, Walla Walla\, WA 99362
UID:e.65.1855
SEQUENCE:3
DTSTAMP:20260421T180257Z
URL:https://business.wwvchamber.com/events/details/celebrate-forgeron-s-new-2013-fa&#231;on-blanc-07-12-2014-1855
END:VEVENT

END:VCALENDAR
