BEGIN:VCALENDAR
VERSION:2.0
PRODID:-//ChamberMaster//Event Calendar 2.0//EN
METHOD:PUBLISH
X-PUBLISHED-TTL:P3D
REFRESH-INTERVAL:P3D
CALSCALE:GREGORIAN
BEGIN:VEVENT
DTSTART:20140908T200000Z
DTEND:20140922T223000Z
X-MICROSOFT-CDO-ALLDAYEVENT:FALSE
SUMMARY:CHAIR MASSAGE
DESCRIPTION:Chair Massage every second and fourth Monday of each month\; September 8th and 22nd. Cost is $13.00. Senior Center members get a one dollar discount. Please call the Senior Center at 527-3775 to make an appointment.
X-ALT-DESC;FMTTYPE=text/html:Chair Massage every second and fourth Monday of each month\; September 8th and 22nd. Cost is $13.00. Senior Center members get a one dollar discount. Please call the Senior Center at 527-3775 to make an appointment.
LOCATION:Walla Walla Senior Center
UID:e.65.1926
SEQUENCE:3
DTSTAMP:20260421T140239Z
URL:https://business.wwvchamber.com/events/details/chair-massage-09-08-2014-1926
END:VEVENT

END:VCALENDAR
