BEGIN:VCALENDAR
VERSION:2.0
PRODID:-//ChamberMaster//Event Calendar 2.0//EN
METHOD:PUBLISH
X-PUBLISHED-TTL:P3D
REFRESH-INTERVAL:P3D
CALSCALE:GREGORIAN
BEGIN:VEVENT
DTSTART:20140408T190000Z
DTEND:20140408T190000Z
X-MICROSOFT-CDO-ALLDAYEVENT:FALSE
SUMMARY:Challenge Ropes Course
DESCRIPTION:UP on the Cat Walk! Prepare for a change of perspective and up turned faces from below. Building tops unnoticed from the ground become your new jungle of vision. Will you take the first step\, grasp the belay line\, or walk hands free? You choose how your story plays you in this new world. A partnership with Hawk point and Walla Walla Parks and Rec. See you there!
X-ALT-DESC;FMTTYPE=text/html:UP on the Cat Walk! Prepare for a change of perspective and up turned faces from below. Building tops unnoticed from the ground become your new jungle of vision. Will you take the first step\, grasp the belay line\, or walk hands free? You choose how your story plays you in this new world. A partnership with Hawk point and Walla Walla Parks and Rec. See you there!
LOCATION:Hawk Point Challenge Course - Next to VA Hospital
UID:e.65.1658
SEQUENCE:3
DTSTAMP:20260422T002215Z
URL:https://business.wwvchamber.com/events/details/challenge-ropes-course-04-08-2014-1658
END:VEVENT

END:VCALENDAR
