BEGIN:VCALENDAR
VERSION:2.0
PRODID:-//ChamberMaster//Event Calendar 2.0//EN
METHOD:PUBLISH
X-PUBLISHED-TTL:P3D
REFRESH-INTERVAL:P3D
CALSCALE:GREGORIAN
BEGIN:VEVENT
DTSTART:20140709T163000Z
DTEND:20140710T020000Z
X-MICROSOFT-CDO-ALLDAYEVENT:FALSE
SUMMARY:Chamber Business Classic Golf Tournament
DESCRIPTION:Come join us in a unique opportunity to celebrate our vibrant economy and invested business community and to explore the "best new golf course of 2009\, Golf Magazine." \n\n\n\nEvent Format \n\nThe Tournament is a four-player scramble (each player plays their ball from the position of the ball of their choice) with team awards for low gross and low net plus numerous other prizes. Proper golf attire required to play.\n\n\n\nGolf Classic Schedule \n\n(all included in $125 per player registration) \n\n9:30 a.m. Registration\, unlimited practice range. \n\n10:00 a.m. Putting Contest (finishes at approximately 11:30) 11:30 a.m. Pick up your complimentary bagged lunch \n\n11:45 a.m. Mount up and head out to your hole for shotgun start 12:00 noon Shotgun Start \n\n4:30 p.m. Awards Dinner
X-ALT-DESC;FMTTYPE=text/html:Come join us in a unique opportunity to celebrate our vibrant economy and invested business community and to explore the &quot\;best new golf course of 2009\, Golf Magazine.&quot\;&nbsp\;<br />\n<br />\nEvent Format&nbsp\;<br />\nThe Tournament is a four-player scramble (each player plays their ball from the position of the ball of their choice) with team awards for low gross and low net plus numerous other prizes. Proper golf attire required to play.<br />\n<br />\nGolf Classic Schedule&nbsp\;<br />\n(all included in $125 per player registration)&nbsp\;<br />\n9:30 a.m. Registration\, unlimited practice range.&nbsp\;<br />\n10:00 a.m. Putting Contest (finishes at approximately 11:30) 11:30 a.m. Pick up your complimentary bagged lunch&nbsp\;<br />\n11:45 a.m. Mount up and head out to your hole for shotgun start 12:00 noon Shotgun Start&nbsp\;<br />\n4:30 p.m. Awards Dinner
LOCATION:Wine Valley Golf Club http://www.winevalleygolfclub.com/
UID:e.65.1739
SEQUENCE:3
DTSTAMP:20260421T191100Z
URL:https://business.wwvchamber.com/events/details/chamber-business-classic-golf-tournament-07-09-2014-1739
END:VEVENT

END:VCALENDAR
