BEGIN:VCALENDAR
VERSION:2.0
PRODID:-//ChamberMaster//Event Calendar 2.0//EN
METHOD:PUBLISH
X-PUBLISHED-TTL:P3D
REFRESH-INTERVAL:P3D
CALSCALE:GREGORIAN
BEGIN:VEVENT
DTSTART:20141206T170000Z
DTEND:20141206T230000Z
X-MICROSOFT-CDO-ALLDAYEVENT:FALSE
SUMMARY:Christmas Bazaar & Alaskan Cruise & TV Raffles\, Turkey Dinner
DESCRIPTION:Christmas Bazaar at the Senior Center Saturday December 6th. 36 Local Crafts Tables\, big raffles of a 7 Day Alaskan Princess Line Cruise! and 50? LED Flat Screen TV! Please call 509-527-3775 or come in to 720 Sprague Street for more information.
X-ALT-DESC;FMTTYPE=text/html:Christmas Bazaar at the Senior Center Saturday December 6th. 36 Local Crafts Tables\, big raffles of a 7 Day Alaskan Princess Line Cruise! and 50? LED Flat Screen TV! Please call 509-527-3775 or come in to 720 Sprague Street for more information.
LOCATION:720 Sprague St
UID:e.65.2241
SEQUENCE:3
DTSTAMP:20260421T090708Z
URL:https://business.wwvchamber.com/events/details/christmas-bazaar-alaskan-cruise-tv-raffles-turkey-dinner-12-06-2014-2241
END:VEVENT

END:VCALENDAR
