BEGIN:VCALENDAR
VERSION:2.0
PRODID:-//ChamberMaster//Event Calendar 2.0//EN
METHOD:PUBLISH
X-PUBLISHED-TTL:P3D
REFRESH-INTERVAL:P3D
CALSCALE:GREGORIAN
BEGIN:VEVENT
DTSTART:20140915T150000Z
DTEND:20141127T000000Z
X-MICROSOFT-CDO-ALLDAYEVENT:FALSE
SUMMARY:Christmas Bazaar Craft Tables Available to Rent Now
DESCRIPTION:Craft tables are available to rent for our Christmas Bazaar on December 6th. Tables are six feet long by thirty inches wide and cost $35.00 each. This bazaar is the Walla Walla Senior Center's biggest fundraiser of the year and attracts 400 people seeking to purchase goods! It runs from 9:00 AM to 3:00 PM and culminates with a grand prize raffle of a 7 Day Alaskan Cruise and 50" LED Flat Screen TV! Please call 509-527-3775 or come in to 720 Sprague Street for more information. We are located at Jefferson Park and our doors are open from 8:00 AM to 4:00 PM.
X-ALT-DESC;FMTTYPE=text/html:<p style="margin: 0in 0in 10pt\;"><span lang="EN" style="color: rgb(34\, 34\, 34)\; line-height: 115%\; font-family: &quot\;Arial&quot\;\,&quot\;sans-serif&quot\;\; font-size: 9pt\; mso-ansi-language: EN\;">Craft tables are available to rent for our Christmas Bazaar on December 6th. Tables are six feet long by thirty inches wide and cost $35.00 each. This bazaar is the Walla Walla Senior Center&rsquo\;s biggest fundraiser of the year and attracts 400 people seeking to purchase goods! It runs from 9:00 AM to 3:00 PM and culminates with a grand prize raffle of a 7 Day Alaskan Cruise and 50&rdquo\; LED Flat Screen TV! Please call 509-527-3775 or come in to 720 Sprague Street for more information. We are located at Jefferson Park and our doors are open from 8:00 AM to 4:00 PM.</span></p>\n
LOCATION:Walla Walla Senior Citizens Center
UID:e.65.1933
SEQUENCE:3
DTSTAMP:20260421T121554Z
URL:https://business.wwvchamber.com/events/details/christmas-bazaar-craft-tables-available-to-rent-now-09-15-2014-1933
END:VEVENT

END:VCALENDAR
