BEGIN:VCALENDAR
VERSION:2.0
PRODID:-//ChamberMaster//Event Calendar 2.0//EN
METHOD:PUBLISH
X-PUBLISHED-TTL:P3D
REFRESH-INTERVAL:P3D
CALSCALE:GREGORIAN
BEGIN:VEVENT
DTSTART:20140404T170000Z
DTEND:20140407T010000Z
X-MICROSOFT-CDO-ALLDAYEVENT:FALSE
SUMMARY:Cima Weekend
DESCRIPTION:A Reininger Cult Fave Ahhhh.....Cima. Not often available\, but we were browsing through our library and found a surplus of past vintages. We knew we had to share these with you\, hence Cima Weekend. What we'll be pouring: - 2001 Cima - 92 pts\, The Wine Advocate - 2002 Cima - 90 pts\, Wine Enthusiast - 2003 Cima - 91 pts\, The Wine Advocate We'll also be pouring wines from our newest label\, CPR - 2009 Petit Verdot and NV Red Wine. For those of you not familiar with Cima....first produced in 1999\, Cima (which is Italian for summit and pronounced 'chee-ma') is a Sangiovese-based blend that includes Bordeaux grapes\, typically Merlot and Cabernet Sauvignon\, as well as Cabernet Franc and Petit Verdot. As Chuck so eloquently describes it\, "Cima has been an 'Hmm...I wonder where this trail leads to' experience\, an unintended diversion on a scenic byway off the Bordeaux freeway leading me on an incredible romantic journey with Sangiovese."
X-ALT-DESC;FMTTYPE=text/html:A Reininger Cult Fave Ahhhh.....Cima. Not often available\, but we were browsing through our library and found a surplus of past vintages. We knew we had to share these with you\, hence Cima Weekend. What we&#39\;ll be pouring: - 2001 Cima - 92 pts\, The Wine Advocate - 2002 Cima - 90 pts\, Wine Enthusiast - 2003 Cima - 91 pts\, The Wine Advocate We&#39\;ll also be pouring wines from our newest label\, CPR - 2009 Petit Verdot and NV Red Wine. For those of you not familiar with Cima....first produced in 1999\, Cima (which is Italian for summit and pronounced &#39\;chee-ma&#39\;) is a Sangiovese-based blend that includes Bordeaux grapes\, typically Merlot and Cabernet Sauvignon\, as well as Cabernet Franc and Petit Verdot. As Chuck so eloquently describes it\, &quot\;Cima has been an &#39\;Hmm...I wonder where this trail leads to&#39\; experience\, an unintended diversion on a scenic byway off the Bordeaux freeway leading me on an incredible romantic journey with Sangiovese.&quot\;
LOCATION:Reininger Winery 5858 Old Hwy 12 Walla Walla\, WA 99362
UID:e.65.1662
SEQUENCE:3
DTSTAMP:20260421T224157Z
URL:https://business.wwvchamber.com/events/details/cima-weekend-04-04-2014-1662
END:VEVENT

END:VCALENDAR
