BEGIN:VCALENDAR
VERSION:2.0
PRODID:-//ChamberMaster//Event Calendar 2.0//EN
METHOD:PUBLISH
X-PUBLISHED-TTL:P3D
REFRESH-INTERVAL:P3D
CALSCALE:GREGORIAN
BEGIN:VEVENT
DTSTART:20140615T030000Z
DTEND:20140615T070000Z
X-MICROSOFT-CDO-ALLDAYEVENT:FALSE
SUMMARY:Cody Beebe & The Crooks
DESCRIPTION:Cody Beebe & The Crooks make rock music that is inspired by the frontier attitude of the American Heartland. When you hear CBC\, you hear the West and its country\, Americana\, and blues roots. However\, rather than eclectic\, the music comes off with a directness and honesty that is the unpretentious nature of real rock and roll.
X-ALT-DESC;FMTTYPE=text/html:Cody Beebe &amp\; The Crooks make rock music that is inspired by the frontier attitude of the American Heartland. When you hear CBC\, you hear the West and its country\, Americana\, and blues roots. However\, rather than eclectic\, the music comes off with a directness and honesty that is the unpretentious nature of real rock and roll.
LOCATION:Main Street Studios\, 207 West Main Street\, Walla Walla\, WA 99362
UID:e.65.1774
SEQUENCE:3
DTSTAMP:20260421T193917Z
URL:https://business.wwvchamber.com/events/details/cody-beebe-the-crooks-06-14-2014-1774
END:VEVENT

END:VCALENDAR
