BEGIN:VCALENDAR
VERSION:2.0
PRODID:-//ChamberMaster//Event Calendar 2.0//EN
METHOD:PUBLISH
X-PUBLISHED-TTL:P3D
REFRESH-INTERVAL:P3D
CALSCALE:GREGORIAN
BEGIN:VEVENT
DTSTART:20141108T190000Z
DTEND:20141109T010000Z
X-MICROSOFT-CDO-ALLDAYEVENT:FALSE
SUMMARY:College Cellars Release Weekend
DESCRIPTION:College Cellars Winery Tasting Room Special Event: to celebrate Release Weekend\, we are pairing wine and cheese\, and wine and chocolate. Experience this delicious pairing with our normal lineup of award-winning wines PLUS all of our Bordeaux Varietals!
X-ALT-DESC;FMTTYPE=text/html:College Cellars Winery Tasting Room Special Event: to celebrate Release Weekend\, we are pairing wine and cheese\, and wine and chocolate. Experience this delicious pairing with our normal lineup of award-winning wines PLUS all of our Bordeaux Varietals!
LOCATION:Corner of Issacs Avenue and Tausick Way
UID:e.65.2240
SEQUENCE:3
DTSTAMP:20260421T102256Z
URL:https://business.wwvchamber.com/events/details/college-cellars-release-weekend-11-08-2014-2240
END:VEVENT

END:VCALENDAR
