BEGIN:VCALENDAR
VERSION:2.0
PRODID:-//ChamberMaster//Event Calendar 2.0//EN
METHOD:PUBLISH
X-PUBLISHED-TTL:P3D
REFRESH-INTERVAL:P3D
CALSCALE:GREGORIAN
BEGIN:VEVENT
DTSTART:20140817T030000Z
DTEND:20140817T060000Z
X-MICROSOFT-CDO-ALLDAYEVENT:FALSE
SUMMARY:Comedy Night with Cory Michaelis & Scott Losse
DESCRIPTION:Come join Main Street Studios for an evening of laughter and great drinks! Hosted by Cory Michaelis & Scott Losse.
X-ALT-DESC;FMTTYPE=text/html:Come join Main Street Studios for an evening of laughter and great drinks! Hosted by Cory Michaelis &amp\; Scott Losse.
LOCATION:Main Street Studios 207 West Main Street\, Walla Walla\, WA 99362
UID:e.65.1893
SEQUENCE:3
DTSTAMP:20260421T160808Z
URL:https://business.wwvchamber.com/events/details/comedy-night-with-cory-michaelis-scott-losse-08-16-2014-1893
END:VEVENT

END:VCALENDAR
