BEGIN:VCALENDAR
VERSION:2.0
PRODID:-//ChamberMaster//Event Calendar 2.0//EN
METHOD:PUBLISH
X-PUBLISHED-TTL:P3D
REFRESH-INTERVAL:P3D
CALSCALE:GREGORIAN
BEGIN:VEVENT
DTSTART:20140722T030000Z
DTEND:20140722T060000Z
X-MICROSOFT-CDO-ALLDAYEVENT:FALSE
SUMMARY:Comedy Night with DAX JORDAN
DESCRIPTION:Dax Jordan -comedian- will be making an appearance at Walla Walla's Main Street Studios. Come share laughs\, spirits\, and a night everyone can enjoy down at Main Street Studios!
X-ALT-DESC;FMTTYPE=text/html:Dax Jordan -comedian- will be making an appearance at Walla Walla&#39\;s Main Street Studios. Come share laughs\, spirits\, and a night everyone can enjoy down at Main Street Studios!
LOCATION:Main Street Studios 207 West Main Street\, Walla Walla\, WA 99362
UID:e.65.1853
SEQUENCE:3
DTSTAMP:20260421T180046Z
URL:https://business.wwvchamber.com/events/details/comedy-night-with-dax-jordan-07-21-2014-1853
END:VEVENT

END:VCALENDAR
